BEGIN:VCALENDAR
VERSION:2.0
PRODID:-//La Sirène Pontoise - ECPv6.15.14//NONSGML v1.0//EN
CALSCALE:GREGORIAN
METHOD:PUBLISH
X-ORIGINAL-URL:https://lasirenepontoise.com
X-WR-CALDESC:Évènements pour La Sirène Pontoise
REFRESH-INTERVAL;VALUE=DURATION:PT1H
X-Robots-Tag:noindex
X-PUBLISHED-TTL:PT1H
BEGIN:VTIMEZONE
TZID:Europe/Paris
BEGIN:DAYLIGHT
TZOFFSETFROM:+0100
TZOFFSETTO:+0200
TZNAME:CEST
DTSTART:20230326T010000
END:DAYLIGHT
BEGIN:STANDARD
TZOFFSETFROM:+0200
TZOFFSETTO:+0100
TZNAME:CET
DTSTART:20231029T010000
END:STANDARD
BEGIN:DAYLIGHT
TZOFFSETFROM:+0100
TZOFFSETTO:+0200
TZNAME:CEST
DTSTART:20240331T010000
END:DAYLIGHT
BEGIN:STANDARD
TZOFFSETFROM:+0200
TZOFFSETTO:+0100
TZNAME:CET
DTSTART:20241027T010000
END:STANDARD
BEGIN:DAYLIGHT
TZOFFSETFROM:+0100
TZOFFSETTO:+0200
TZNAME:CEST
DTSTART:20250330T010000
END:DAYLIGHT
BEGIN:STANDARD
TZOFFSETFROM:+0200
TZOFFSETTO:+0100
TZNAME:CET
DTSTART:20251026T010000
END:STANDARD
END:VTIMEZONE
BEGIN:VEVENT
DTSTART;TZID=Europe/Paris:20241129T210000
DTEND;TZID=Europe/Paris:20241129T230000
DTSTAMP:20260424T181011
CREATED:20240412T120400Z
LAST-MODIFIED:20240502T194538Z
UID:28943-1732914000-1732921200@lasirenepontoise.com
SUMMARY:JUBELEI ! - 30 Jahre MNOZIL BRASS
DESCRIPTION:La Sirène pontoise est heureuse de vous proposer le spectacle JUBELEI ! – 30 Jahre MNOZIL BRASS\, le vendredi 29 novembre 2024 à 21h dans l’espace polyculturel des arènes de PONTONX. A ce jour\, ce spectacle est la seule représentation du Monzil Brass en France en 2024 ! Précipitez vous sur la billetterie en ligne. Nous avons hâte de vous retrouver pour partager un moment avec ce groupe d’exception ! \nBilleterie en ligne sur : https://www.helloasso.com/associations/la-sirene-de-pontonx/evenements/phoenix-du-mnozil-brass \nIl y a 30 ans déjà\, quelques étudiants en musique aux ambitions philharmoniques ont cédé aux sirènes de la musique d’auberge au restaurant Mnozil à Vienne et se sont lancés dans le monde du spectacle de manière tout à fait imprévue.Laissant derrière eux le monde noble de la musique classique\, ils ont parcouru le globe au nom de la musique à vent appliquée. \nLe succès fut rapidement au rendez-vous et ce qui devait arriver arriva : les décennies passèrent à une vitesse folle et les étudiants devinrent finalement eux-mêmes professeurs. Des enseignants qui\, en leur âme et conscience\, ne cherchaient qu’à transmettre ce qu’ils avaient vécu\, en paroles et en sons\, à leurs élèves avides de connaissances. \nMais le feu de la musique soufflée ne s’éteint jamais ! En 2023\, il brûle toujours dans leurs cœurs\, comme à l’époque\, dans la petite auberge viennoise. \nC’est pourquoi MNOZIL Brass se lance à nouveau vers de nouveaux horizons et présente l’anniversaire ultime des cuivres sous la forme d’un spectacle anniversaire : \nJUBELEI ! – 30 ans de MNOZIL BRASSHappy Birthday to us!
URL:https://lasirenepontoise.com/event/jubelei-30-jahre-mnozil-brass/
LOCATION:Espace polyculturel Les Arènes\, Pontonx sur l'Adour\, 40465\, France
ATTACH;FMTTYPE=image/jpeg:https://lasirenepontoise.com/wp-content/uploads/2024/04/30_jahre-1.jpg
END:VEVENT
END:VCALENDAR